BEGIN:VCALENDAR
VERSION:2.0
PRODID:-//Aigburth Community Church - ECPv6.15.20//NONSGML v1.0//EN
CALSCALE:GREGORIAN
METHOD:PUBLISH
X-ORIGINAL-URL:https://aigburth.church
X-WR-CALDESC:Events for Aigburth Community Church
REFRESH-INTERVAL;VALUE=DURATION:PT1H
X-Robots-Tag:noindex
X-PUBLISHED-TTL:PT1H
BEGIN:VTIMEZONE
TZID:Europe/London
BEGIN:DAYLIGHT
TZOFFSETFROM:+0000
TZOFFSETTO:+0100
TZNAME:BST
DTSTART:20230326T010000
END:DAYLIGHT
BEGIN:STANDARD
TZOFFSETFROM:+0100
TZOFFSETTO:+0000
TZNAME:GMT
DTSTART:20231029T010000
END:STANDARD
BEGIN:DAYLIGHT
TZOFFSETFROM:+0000
TZOFFSETTO:+0100
TZNAME:BST
DTSTART:20240331T010000
END:DAYLIGHT
BEGIN:STANDARD
TZOFFSETFROM:+0100
TZOFFSETTO:+0000
TZNAME:GMT
DTSTART:20241027T010000
END:STANDARD
BEGIN:DAYLIGHT
TZOFFSETFROM:+0000
TZOFFSETTO:+0100
TZNAME:BST
DTSTART:20250330T010000
END:DAYLIGHT
BEGIN:STANDARD
TZOFFSETFROM:+0100
TZOFFSETTO:+0000
TZNAME:GMT
DTSTART:20251026T010000
END:STANDARD
END:VTIMEZONE
BEGIN:VEVENT
DTSTART;TZID=Europe/London:20240317T110000
DTEND;TZID=Europe/London:20240317T123000
DTSTAMP:20260424T112957
CREATED:20231219T124759Z
LAST-MODIFIED:20231219T124759Z
UID:8203-1710673200-1710678600@aigburth.church
SUMMARY:Sunday Morning Service
DESCRIPTION:Rich Moss will be preaching on Mark 14:12-52. \nThere will be a creche provided and activities for under 8s. \nCoffee\, tea and biscuits will be provided after the service so you can chat with people. \nPlease join us\, everyone is welcome and we would love to have you come along.
URL:https://aigburth.church/event/sunday-morning-service-71
LOCATION:Aigburth Community Church\, Dundonald Road\, Liverpool\, Merseyside\, L17 0AE\, United Kingdom
CATEGORIES:Sunday Services
END:VEVENT
BEGIN:VEVENT
DTSTART;TZID=Europe/London:20240317T180000
DTEND;TZID=Europe/London:20240317T190000
DTSTAMP:20260424T112957
CREATED:20231219T130250Z
LAST-MODIFIED:20231219T130250Z
UID:8227-1710698400-1710702000@aigburth.church
SUMMARY:Sunday Evening Meeting - Prayer Meeting
DESCRIPTION:This is where we meet to pray for our church and the local community\, everyone is welcome so please do come and join us. \nCoffee and tea will be available.
URL:https://aigburth.church/event/sunday-evening-meeting-prayer-meeting-8
LOCATION:Aigburth Community Church\, Dundonald Road\, Liverpool\, Merseyside\, L17 0AE\, United Kingdom
CATEGORIES:Sunday Services
END:VEVENT
BEGIN:VEVENT
DTSTART;TZID=Europe/London:20240324T080000
DTEND;TZID=Europe/London:20240324T170000
DTSTAMP:20260424T112957
CREATED:20231219T124954Z
LAST-MODIFIED:20231219T124954Z
UID:8205-1711267200-1711299600@aigburth.church
SUMMARY:Sunday Morning Service
DESCRIPTION:Ed Peck will be preaching on Mark 14:53 – 15:41. The Lord’s Supper will be provided at this service. \nThere will be a creche provided and activities for under 8s. \nCoffee\, tea and biscuits will be provided after the service so you can chat with people. \nPlease join us\, everyone is welcome and we would love to have you come along.
URL:https://aigburth.church/event/sunday-morning-service-72
LOCATION:Aigburth Community Church\, Dundonald Road\, Liverpool\, Merseyside\, L17 0AE\, United Kingdom
CATEGORIES:Sunday Services
END:VEVENT
BEGIN:VEVENT
DTSTART;TZID=Europe/London:20240324T170000
DTEND;TZID=Europe/London:20240324T183000
DTSTAMP:20260424T112957
CREATED:20231219T130328Z
LAST-MODIFIED:20231219T130328Z
UID:8229-1711299600-1711305000@aigburth.church
SUMMARY:Sunday Evening Meeting - Church Meal
DESCRIPTION:This is a regular opportunity to come together as a church family over a nice meal. If you would like to join us\, please do come along\, we will have extra and we would love for you to join us.
URL:https://aigburth.church/event/sunday-evening-meeting-church-meal-4
LOCATION:Aigburth Community Church\, Dundonald Road\, Liverpool\, Merseyside\, L17 0AE\, United Kingdom
CATEGORIES:Sunday Services
END:VEVENT
BEGIN:VEVENT
DTSTART;TZID=Europe/London:20240331T110000
DTEND;TZID=Europe/London:20240331T123000
DTSTAMP:20260424T112957
CREATED:20240319T104244Z
LAST-MODIFIED:20240319T104244Z
UID:8304-1711882800-1711888200@aigburth.church
SUMMARY:Sunday Morning All Age Service
DESCRIPTION:Jeremy Clark will be preaching on Mark 15:42-16:8. \nCoffee\, tea and biscuits will be provided after the service so you can chat with people. \nPlease join us\, everyone is welcome and we would love to have you come along.
URL:https://aigburth.church/event/sunday-morning-all-age-service-11
LOCATION:Aigburth Community Church\, Dundonald Road\, Liverpool\, Merseyside\, L17 0AE\, United Kingdom
CATEGORIES:Sunday Services
END:VEVENT
BEGIN:VEVENT
DTSTART;TZID=Europe/London:20240407T110000
DTEND;TZID=Europe/London:20240407T123000
DTSTAMP:20260424T112957
CREATED:20240319T104449Z
LAST-MODIFIED:20240319T104449Z
UID:8306-1712487600-1712493000@aigburth.church
SUMMARY:Sunday Morning Service
DESCRIPTION:John Critchley will be preaching on Judges 5. \nThere will be a creche provided and activities for under 8s. \nCoffee\, tea and biscuits will be provided after the service so you can chat with people. \nPlease join us\, everyone is welcome and we would love to have you come along.
URL:https://aigburth.church/event/sunday-morning-service-73
LOCATION:Merseyside
CATEGORIES:Sunday Services
END:VEVENT
BEGIN:VEVENT
DTSTART;TZID=Europe/London:20240407T180000
DTEND;TZID=Europe/London:20240407T190000
DTSTAMP:20260424T112957
CREATED:20240319T112148Z
LAST-MODIFIED:20240319T112148Z
UID:8345-1712512800-1712516400@aigburth.church
SUMMARY:Sunday Evening Meeting - Prayer Meeting
DESCRIPTION:This is where we meet to pray for our church and the local community\, everyone is welcome so please do come and join us. \nCoffee and tea will be available.
URL:https://aigburth.church/event/sunday-evening-meeting-prayer-meeting-9
LOCATION:Aigburth Community Church\, Dundonald Road\, Liverpool\, Merseyside\, L17 0AE\, United Kingdom
CATEGORIES:Sunday Services
END:VEVENT
BEGIN:VEVENT
DTSTART;TZID=Europe/London:20240414T110000
DTEND;TZID=Europe/London:20240414T123000
DTSTAMP:20260424T112957
CREATED:20240319T104717Z
LAST-MODIFIED:20240319T104717Z
UID:8308-1713092400-1713097800@aigburth.church
SUMMARY:Sunday Morning Service
DESCRIPTION:Ed Peck will be Starting a new series on Galatians 1:1-9. \nThere will be a creche provided and activities for under 8s. \nCoffee\, tea and biscuits will be provided after the service so you can chat with people. \nPlease join us\, everyone is welcome and we would love to have you come along.
URL:https://aigburth.church/event/sunday-morning-service-74
LOCATION:Aigburth Community Church\, Dundonald Road\, Liverpool\, Merseyside\, L17 0AE\, United Kingdom
CATEGORIES:Sunday Services
END:VEVENT
BEGIN:VEVENT
DTSTART;TZID=Europe/London:20240414T180000
DTEND;TZID=Europe/London:20240414T190000
DTSTAMP:20260424T112957
CREATED:20240319T112658Z
LAST-MODIFIED:20240319T112658Z
UID:8361-1713117600-1713121200@aigburth.church
SUMMARY:Sunday Evening Meeting - Praise and Devotional Meeting
DESCRIPTION:This is a chance for us to meet together\, with readings and singing\, with the single aim of pointing us to Jesus\, closing with us celebrating the Lord’s supper as a church family\, everyone is welcome so please do come and join us. \nTea and coffee will be available on the evening
URL:https://aigburth.church/event/sunday-evening-meeting-praise-and-devotional-meeting-5
LOCATION:Aigburth Community Church\, Dundonald Road\, Liverpool\, Merseyside\, L17 0AE\, United Kingdom
CATEGORIES:Sunday Services
END:VEVENT
BEGIN:VEVENT
DTSTART;TZID=Europe/London:20240421T110000
DTEND;TZID=Europe/London:20240421T123000
DTSTAMP:20260424T112957
CREATED:20240319T104904Z
LAST-MODIFIED:20240319T104904Z
UID:8310-1713697200-1713702600@aigburth.church
SUMMARY:Sunday Morning Service
DESCRIPTION:Jeremy Clark will be preaching on Galatians 1:10 – 2:10. \nThere will be a creche provided and activities for under 8s. \nCoffee\, tea and biscuits will be provided after the service so you can chat with people. \nPlease join us\, everyone is welcome and we would love to have you come along.
URL:https://aigburth.church/event/sunday-morning-service-75
LOCATION:Aigburth Community Church\, Dundonald Road\, Liverpool\, Merseyside\, L17 0AE\, United Kingdom
CATEGORIES:Sunday Services
END:VEVENT
BEGIN:VEVENT
DTSTART;TZID=Europe/London:20240421T180000
DTEND;TZID=Europe/London:20240421T190000
DTSTAMP:20260424T112957
CREATED:20240319T112221Z
LAST-MODIFIED:20240319T112221Z
UID:8347-1713722400-1713726000@aigburth.church
SUMMARY:Sunday Evening Meeting - Prayer Meeting
DESCRIPTION:This is where we meet to pray for our church and the local community\, everyone is welcome so please do come and join us. \nCoffee and tea will be available.
URL:https://aigburth.church/event/sunday-evening-meeting-prayer-meeting-10
LOCATION:Aigburth Community Church\, Dundonald Road\, Liverpool\, Merseyside\, L17 0AE\, United Kingdom
CATEGORIES:Sunday Services
END:VEVENT
BEGIN:VEVENT
DTSTART;TZID=Europe/London:20240428T110000
DTEND;TZID=Europe/London:20240428T123000
DTSTAMP:20260424T112957
CREATED:20240319T105046Z
LAST-MODIFIED:20240319T105046Z
UID:8312-1714302000-1714307400@aigburth.church
SUMMARY:Sunday Morning Service
DESCRIPTION:Jon Norwood will be preaching on Galatians 2:11-21 . The Lord’s Supper will be provided at this service. \nThere will be a creche provided and activities for under 8s. \nCoffee\, tea and biscuits will be provided after the service so you can chat with people. \nPlease join us\, everyone is welcome and we would love to have you come along.
URL:https://aigburth.church/event/sunday-morning-service-76
LOCATION:Aigburth Community Church\, Dundonald Road\, Liverpool\, Merseyside\, L17 0AE\, United Kingdom
CATEGORIES:Sunday Services
END:VEVENT
BEGIN:VEVENT
DTSTART;TZID=Europe/London:20240428T173000
DTEND;TZID=Europe/London:20240428T190000
DTSTAMP:20260424T112957
CREATED:20240319T111907Z
LAST-MODIFIED:20240319T111907Z
UID:8341-1714325400-1714330800@aigburth.church
SUMMARY:Sunday Evening Meeting - Church Meal
DESCRIPTION:This is a regular opportunity to come together as a church family over a nice meal. If you would like to join us\, please do come along\, we will have extra and we would love for you to join us.
URL:https://aigburth.church/event/sunday-evening-meeting-church-meal-5
LOCATION:Aigburth Community Church\, Dundonald Road\, Liverpool\, Merseyside\, L17 0AE\, United Kingdom
CATEGORIES:Sunday Services
END:VEVENT
BEGIN:VEVENT
DTSTART;TZID=Europe/London:20240505T110000
DTEND;TZID=Europe/London:20240505T123000
DTSTAMP:20260424T112957
CREATED:20240319T105239Z
LAST-MODIFIED:20240319T105239Z
UID:8314-1714906800-1714912200@aigburth.church
SUMMARY:Sunday Morning Service
DESCRIPTION:John Critchley will be preaching on Judges. \nThere will be a creche provided and activities for under 8s. \nCoffee\, tea and biscuits will be provided after the service so you can chat with people. \nPlease join us\, everyone is welcome and we would love to have you come along.
URL:https://aigburth.church/event/sunday-morning-service-77
LOCATION:Aigburth Community Church\, Dundonald Road\, Liverpool\, Merseyside\, L17 0AE\, United Kingdom
CATEGORIES:Sunday Services
END:VEVENT
BEGIN:VEVENT
DTSTART;TZID=Europe/London:20240505T180000
DTEND;TZID=Europe/London:20240505T190000
DTSTAMP:20260424T112957
CREATED:20240319T112254Z
LAST-MODIFIED:20240319T112254Z
UID:8349-1714932000-1714935600@aigburth.church
SUMMARY:Sunday Evening Meeting - Prayer Meeting
DESCRIPTION:This is where we meet to pray for our church and the local community\, everyone is welcome so please do come and join us. \nCoffee and tea will be available.
URL:https://aigburth.church/event/sunday-evening-meeting-prayer-meeting-11
LOCATION:Aigburth Community Church\, Dundonald Road\, Liverpool\, Merseyside\, L17 0AE\, United Kingdom
CATEGORIES:Sunday Services
END:VEVENT
BEGIN:VEVENT
DTSTART;TZID=Europe/London:20240512T110000
DTEND;TZID=Europe/London:20240512T123000
DTSTAMP:20260424T112957
CREATED:20240319T105414Z
LAST-MODIFIED:20240319T105414Z
UID:8316-1715511600-1715517000@aigburth.church
SUMMARY:Sunday Morning Service
DESCRIPTION:Rich Grindey will be preaching on Galatians 3:1-9. \nThere will be a creche provided and activities for under 8s. \nCoffee\, tea and biscuits will be provided after the service so you can chat with people. \nPlease join us\, everyone is welcome and we would love to have you come along.
URL:https://aigburth.church/event/sunday-morning-service-78
LOCATION:Aigburth Community Church\, Dundonald Road\, Liverpool\, Merseyside\, L17 0AE\, United Kingdom
CATEGORIES:Sunday Services
END:VEVENT
BEGIN:VEVENT
DTSTART;TZID=Europe/London:20240512T180000
DTEND;TZID=Europe/London:20240512T190000
DTSTAMP:20260424T112957
CREATED:20240319T112734Z
LAST-MODIFIED:20240319T112734Z
UID:8363-1715536800-1715540400@aigburth.church
SUMMARY:Sunday Evening Meeting - Praise and Devotional Meeting
DESCRIPTION:This is a chance for us to meet together\, with readings and singing\, with the single aim of pointing us to Jesus\, closing with us celebrating the Lord’s supper as a church family\, everyone is welcome so please do come and join us. \nTea and coffee will be available on the evening
URL:https://aigburth.church/event/sunday-evening-meeting-praise-and-devotional-meeting-6
LOCATION:Aigburth Community Church\, Dundonald Road\, Liverpool\, Merseyside\, L17 0AE\, United Kingdom
CATEGORIES:Sunday Services
END:VEVENT
BEGIN:VEVENT
DTSTART;TZID=Europe/London:20240519T110000
DTEND;TZID=Europe/London:20240519T123000
DTSTAMP:20260424T112957
CREATED:20240319T105640Z
LAST-MODIFIED:20240319T105640Z
UID:8318-1716116400-1716121800@aigburth.church
SUMMARY:Sunday Morning Service
DESCRIPTION:Pete Roberts will be preaching on Galatians 3:10-18. \nThere will be a creche provided and activities for under 8s. \nCoffee\, tea and biscuits will be provided after the service so you can chat with people. \nPlease join us\, everyone is welcome and we would love to have you come along.
URL:https://aigburth.church/event/sunday-morning-service-79
LOCATION:Aigburth Community Church\, Dundonald Road\, Liverpool\, Merseyside\, L17 0AE\, United Kingdom
CATEGORIES:Sunday Services
END:VEVENT
BEGIN:VEVENT
DTSTART;TZID=Europe/London:20240519T180000
DTEND;TZID=Europe/London:20240519T190000
DTSTAMP:20260424T112957
CREATED:20240319T112323Z
LAST-MODIFIED:20240319T112323Z
UID:8351-1716141600-1716145200@aigburth.church
SUMMARY:Sunday Evening Meeting - Prayer Meeting
DESCRIPTION:This is where we meet to pray for our church and the local community\, everyone is welcome so please do come and join us. \nCoffee and tea will be available.
URL:https://aigburth.church/event/sunday-evening-meeting-prayer-meeting-12
LOCATION:Aigburth Community Church\, Dundonald Road\, Liverpool\, Merseyside\, L17 0AE\, United Kingdom
CATEGORIES:Sunday Services
END:VEVENT
BEGIN:VEVENT
DTSTART;TZID=Europe/London:20240526T110000
DTEND;TZID=Europe/London:20240526T123000
DTSTAMP:20260424T112957
CREATED:20240319T105808Z
LAST-MODIFIED:20240319T105808Z
UID:8320-1716721200-1716726600@aigburth.church
SUMMARY:Sunday Morning Service
DESCRIPTION:Jeremy Clark will be preaching on Galatians 3:19 – 29. The Lord’s Supper will be provided at this service. \nThere will be a creche provided and activities for under 8s. \nCoffee\, tea and biscuits will be provided after the service so you can chat with people. \nPlease join us\, everyone is welcome and we would love to have you come along.
URL:https://aigburth.church/event/sunday-morning-service-80
LOCATION:Aigburth Community Church\, Dundonald Road\, Liverpool\, Merseyside\, L17 0AE\, United Kingdom
CATEGORIES:Sunday Services
END:VEVENT
BEGIN:VEVENT
DTSTART;TZID=Europe/London:20240526T173000
DTEND;TZID=Europe/London:20240526T190000
DTSTAMP:20260424T112957
CREATED:20240319T111943Z
LAST-MODIFIED:20240319T111943Z
UID:8343-1716744600-1716750000@aigburth.church
SUMMARY:Sunday Evening Meeting - Church Meal
DESCRIPTION:This is a regular opportunity to come together as a church family over a nice meal. If you would like to join us\, please do come along\, we will have extra and we would love for you to join us.
URL:https://aigburth.church/event/sunday-evening-meeting-church-meal-6
LOCATION:Aigburth Community Church\, Dundonald Road\, Liverpool\, Merseyside\, L17 0AE\, United Kingdom
CATEGORIES:Sunday Services
END:VEVENT
BEGIN:VEVENT
DTSTART;TZID=Europe/London:20240602T110000
DTEND;TZID=Europe/London:20240602T123000
DTSTAMP:20260424T112957
CREATED:20240319T110048Z
LAST-MODIFIED:20240319T110104Z
UID:8322-1717326000-1717331400@aigburth.church
SUMMARY:Sunday Morning Service
DESCRIPTION:Maurice Kinnaird will be preaching on Galatians 4:1-11. \nThere will be a creche provided and activities for under 8s. \nCoffee\, tea and biscuits will be provided after the service so you can chat with people. \nPlease join us\, everyone is welcome and we would love to have you come along.
URL:https://aigburth.church/event/sunday-morning-service-81
LOCATION:Aigburth Community Church\, Dundonald Road\, Liverpool\, Merseyside\, L17 0AE\, United Kingdom
CATEGORIES:Sunday Services
END:VEVENT
BEGIN:VEVENT
DTSTART;TZID=Europe/London:20240602T180000
DTEND;TZID=Europe/London:20240602T190000
DTSTAMP:20260424T112957
CREATED:20240319T112401Z
LAST-MODIFIED:20240319T112401Z
UID:8353-1717351200-1717354800@aigburth.church
SUMMARY:Sunday Evening Meeting - Prayer Meeting
DESCRIPTION:This is where we meet to pray for our church and the local community\, everyone is welcome so please do come and join us. \nCoffee and tea will be available.
URL:https://aigburth.church/event/sunday-evening-meeting-prayer-meeting-13
LOCATION:Aigburth Community Church\, Dundonald Road\, Liverpool\, Merseyside\, L17 0AE\, United Kingdom
CATEGORIES:Sunday Services
END:VEVENT
BEGIN:VEVENT
DTSTART;TZID=Europe/London:20240609T110000
DTEND;TZID=Europe/London:20240609T123000
DTSTAMP:20260424T112957
CREATED:20240319T110324Z
LAST-MODIFIED:20240319T110324Z
UID:8325-1717930800-1717936200@aigburth.church
SUMMARY:Sunday Morning Service
DESCRIPTION:John Critchley will be preaching on Judges. \nThere will be a creche provided and activities for under 8s. \nCoffee\, tea and biscuits will be provided after the service so you can chat with people. \nPlease join us\, everyone is welcome and we would love to have you come along.
URL:https://aigburth.church/event/sunday-morning-service-82
LOCATION:Aigburth Community Church\, Dundonald Road\, Liverpool\, Merseyside\, L17 0AE\, United Kingdom
CATEGORIES:Sunday Services
END:VEVENT
BEGIN:VEVENT
DTSTART;TZID=Europe/London:20240609T180000
DTEND;TZID=Europe/London:20240609T190000
DTSTAMP:20260424T112957
CREATED:20240319T112810Z
LAST-MODIFIED:20240319T112810Z
UID:8365-1717956000-1717959600@aigburth.church
SUMMARY:Sunday Evening Meeting - Praise and Devotional Meeting
DESCRIPTION:This is a chance for us to meet together\, with readings and singing\, with the single aim of pointing us to Jesus\, closing with us celebrating the Lord’s supper as a church family\, everyone is welcome so please do come and join us. \nTea and coffee will be available on the evening
URL:https://aigburth.church/event/sunday-evening-meeting-praise-and-devotional-meeting-7
LOCATION:Aigburth Community Church\, Dundonald Road\, Liverpool\, Merseyside\, L17 0AE\, United Kingdom
CATEGORIES:Sunday Services
END:VEVENT
BEGIN:VEVENT
DTSTART;TZID=Europe/London:20240616T110000
DTEND;TZID=Europe/London:20240616T123000
DTSTAMP:20260424T112957
CREATED:20240319T110519Z
LAST-MODIFIED:20240319T110519Z
UID:8327-1718535600-1718541000@aigburth.church
SUMMARY:Sunday Morning Service
DESCRIPTION:Ed Peck will be preaching on Galatians 4:12 – 5:1. \nThere will be a creche provided and activities for under 8s. \nCoffee\, tea and biscuits will be provided after the service so you can chat with people. \nPlease join us\, everyone is welcome and we would love to have you come along.
URL:https://aigburth.church/event/sunday-morning-service-83
LOCATION:Aigburth Community Church\, Dundonald Road\, Liverpool\, Merseyside\, L17 0AE\, United Kingdom
CATEGORIES:Sunday Services
END:VEVENT
BEGIN:VEVENT
DTSTART;TZID=Europe/London:20240616T180000
DTEND;TZID=Europe/London:20240616T190000
DTSTAMP:20260424T112957
CREATED:20240319T112444Z
LAST-MODIFIED:20240319T112444Z
UID:8355-1718560800-1718564400@aigburth.church
SUMMARY:Sunday Evening Meeting - Prayer Meeting
DESCRIPTION:This is where we meet to pray for our church and the local community\, everyone is welcome so please do come and join us. \nCoffee and tea will be available.
URL:https://aigburth.church/event/sunday-evening-meeting-prayer-meeting-14
LOCATION:Aigburth Community Church\, Dundonald Road\, Liverpool\, Merseyside\, L17 0AE\, United Kingdom
CATEGORIES:Sunday Services
END:VEVENT
BEGIN:VEVENT
DTSTART;TZID=Europe/London:20240623T110000
DTEND;TZID=Europe/London:20240623T123000
DTSTAMP:20260424T112957
CREATED:20240319T111447Z
LAST-MODIFIED:20240603T094139Z
UID:8338-1719140400-1719145800@aigburth.church
SUMMARY:Sunday Morning Service
DESCRIPTION:Ed Peck will be preaching on Galatians 5:1-15. \nThere will be a creche provided and activities for under 8s. \nCoffee\, tea and biscuits will be provided after the service so you can chat with people. \nPlease join us\, everyone is welcome and we would love to have you come along.
URL:https://aigburth.church/event/sunday-morning-service-87
LOCATION:Aigburth Community Church\, Dundonald Road\, Liverpool\, Merseyside\, L17 0AE\, United Kingdom
CATEGORIES:Sunday Services
END:VEVENT
BEGIN:VEVENT
DTSTART;TZID=Europe/London:20240630T110000
DTEND;TZID=Europe/London:20240630T123000
DTSTAMP:20260424T112957
CREATED:20240319T110645Z
LAST-MODIFIED:20240603T094228Z
UID:8329-1719745200-1719750600@aigburth.church
SUMMARY:Sunday Morning Service
DESCRIPTION:Jeremy Clark will be preaching on Galatians 5:16-24. The Lord’s Supper will be provided at this service. \nThere will be a creche provided and activities for under 8s. \nCoffee\, tea and biscuits will be provided after the service so you can chat with people. \nPlease join us\, everyone is welcome and we would love to have you come along.
URL:https://aigburth.church/event/sunday-morning-service-84
LOCATION:Aigburth Community Church\, Dundonald Road\, Liverpool\, Merseyside\, L17 0AE\, United Kingdom
CATEGORIES:Sunday Services
END:VEVENT
BEGIN:VEVENT
DTSTART;TZID=Europe/London:20240707T110000
DTEND;TZID=Europe/London:20240707T123000
DTSTAMP:20260424T112957
CREATED:20240319T111028Z
LAST-MODIFIED:20240319T111028Z
UID:8334-1720350000-1720355400@aigburth.church
SUMMARY:Sunday Morning Service
DESCRIPTION:Marco Hipwell will be preaching on Galatians 5:25 – 6:10. \nThere will be a creche provided and activities for under 8s. \nCoffee\, tea and biscuits will be provided after the service so you can chat with people. \nPlease join us\, everyone is welcome and we would love to have you come along.
URL:https://aigburth.church/event/sunday-morning-service-85
LOCATION:Aigburth Community Church\, Dundonald Road\, Liverpool\, Merseyside\, L17 0AE\, United Kingdom
CATEGORIES:Sunday Services
END:VEVENT
END:VCALENDAR