BEGIN:VCALENDAR
VERSION:2.0
PRODID:-//Aigburth Community Church - ECPv6.15.20//NONSGML v1.0//EN
CALSCALE:GREGORIAN
METHOD:PUBLISH
X-ORIGINAL-URL:https://aigburth.church
X-WR-CALDESC:Events for Aigburth Community Church
REFRESH-INTERVAL;VALUE=DURATION:PT1H
X-Robots-Tag:noindex
X-PUBLISHED-TTL:PT1H
BEGIN:VTIMEZONE
TZID:Europe/London
BEGIN:DAYLIGHT
TZOFFSETFROM:+0000
TZOFFSETTO:+0100
TZNAME:BST
DTSTART:20220327T010000
END:DAYLIGHT
BEGIN:STANDARD
TZOFFSETFROM:+0100
TZOFFSETTO:+0000
TZNAME:GMT
DTSTART:20221030T010000
END:STANDARD
BEGIN:DAYLIGHT
TZOFFSETFROM:+0000
TZOFFSETTO:+0100
TZNAME:BST
DTSTART:20230326T010000
END:DAYLIGHT
BEGIN:STANDARD
TZOFFSETFROM:+0100
TZOFFSETTO:+0000
TZNAME:GMT
DTSTART:20231029T010000
END:STANDARD
BEGIN:DAYLIGHT
TZOFFSETFROM:+0000
TZOFFSETTO:+0100
TZNAME:BST
DTSTART:20240331T010000
END:DAYLIGHT
BEGIN:STANDARD
TZOFFSETFROM:+0100
TZOFFSETTO:+0000
TZNAME:GMT
DTSTART:20241027T010000
END:STANDARD
BEGIN:DAYLIGHT
TZOFFSETFROM:+0000
TZOFFSETTO:+0100
TZNAME:BST
DTSTART:20250330T010000
END:DAYLIGHT
BEGIN:STANDARD
TZOFFSETFROM:+0100
TZOFFSETTO:+0000
TZNAME:GMT
DTSTART:20251026T010000
END:STANDARD
END:VTIMEZONE
BEGIN:VEVENT
DTSTART;TZID=Europe/London:20231015T180000
DTEND;TZID=Europe/London:20231015T190000
DTSTAMP:20260424T175013
CREATED:20230907T101802Z
LAST-MODIFIED:20230907T101802Z
UID:8018-1697392800-1697396400@aigburth.church
SUMMARY:Sunday Evening Prayer Meeting
DESCRIPTION:This is where we meet to pray for our church and the local community\, please do try and attend if you can. Coffee and tea will be available.
URL:https://aigburth.church/event/sunday-evening-prayer-meeting-20
LOCATION:Aigburth Community Church\, Dundonald Road\, Liverpool\, Merseyside\, L17 0AE\, United Kingdom
CATEGORIES:Sunday Services
END:VEVENT
BEGIN:VEVENT
DTSTART;TZID=Europe/London:20231022T110000
DTEND;TZID=Europe/London:20231022T120000
DTSTAMP:20260424T175013
CREATED:20230907T095831Z
LAST-MODIFIED:20230907T095831Z
UID:8005-1697972400-1697976000@aigburth.church
SUMMARY:Sunday Morning Service
DESCRIPTION:Ed Peck will be preaching on Mark 4:1-34. \nThere will be a creche provided and activities for under 8s. \nCoffee\, tea and biscuits will be provided after the service so you can chat with people. \nPlease join us\, everyone is welcome and we would love to have you come along. \nThis service will include the Lord’s Supper.
URL:https://aigburth.church/event/sunday-morning-service-53
LOCATION:Aigburth Community Church\, Dundonald Road\, Liverpool\, Merseyside\, L17 0AE\, United Kingdom
CATEGORIES:Sunday Services
END:VEVENT
BEGIN:VEVENT
DTSTART;TZID=Europe/London:20231022T110000
DTEND;TZID=Europe/London:20231022T123000
DTSTAMP:20260424T175013
CREATED:20231107T095633Z
LAST-MODIFIED:20231107T095633Z
UID:8085-1697972400-1697977800@aigburth.church
SUMMARY:Sunday Morning Service
DESCRIPTION:Ed Peck will be preaching on Mark 4:1-20 \nThere will be a creche provided and activities for under 8s. \nCoffee\, tea and biscuits will be provided after the service so you can chat with people. \nPlease join us\, everyone is welcome and we would love to have you come along. \nThis service will include the Lord’s Supper.
URL:https://aigburth.church/event/sunday-morning-service-54
LOCATION:Aigburth Community Church\, Dundonald Road\, Liverpool\, Merseyside\, L17 0AE\, United Kingdom
CATEGORIES:Sunday Services
END:VEVENT
BEGIN:VEVENT
DTSTART;TZID=Europe/London:20231022T170000
DTEND;TZID=Europe/London:20231022T180000
DTSTAMP:20260424T175013
CREATED:20230907T101852Z
LAST-MODIFIED:20230907T101852Z
UID:8020-1697994000-1697997600@aigburth.church
SUMMARY:Sunday Evening Church Meal
DESCRIPTION:A regular opportunity to come together as a church family over a nice meal.
URL:https://aigburth.church/event/sunday-evening-church-meal-2
LOCATION:Aigburth Community Church\, Dundonald Road\, Liverpool\, Merseyside\, L17 0AE\, United Kingdom
CATEGORIES:Sunday Services
END:VEVENT
BEGIN:VEVENT
DTSTART;TZID=Europe/London:20231029T110000
DTEND;TZID=Europe/London:20231029T123000
DTSTAMP:20260424T175013
CREATED:20231107T095813Z
LAST-MODIFIED:20231107T095813Z
UID:8087-1698577200-1698582600@aigburth.church
SUMMARY:Sunday Morning Service
DESCRIPTION:Rich Grindey will be preaching on Mark 4:21-34. \nThere will be a creche provided and activities for under 8s. \nCoffee\, tea and biscuits will be provided after the service so you can chat with people. \nPlease join us\, everyone is welcome and we would love to have you come along. \n 
URL:https://aigburth.church/event/sunday-morning-service-55
LOCATION:Aigburth Community Church\, Dundonald Road\, Liverpool\, Merseyside\, L17 0AE\, United Kingdom
CATEGORIES:Sunday Services
END:VEVENT
BEGIN:VEVENT
DTSTART;TZID=Europe/London:20231105T110000
DTEND;TZID=Europe/London:20231105T123000
DTSTAMP:20260424T175013
CREATED:20231107T095934Z
LAST-MODIFIED:20231107T095934Z
UID:8089-1699182000-1699187400@aigburth.church
SUMMARY:Sunday Morning Service
DESCRIPTION:Paul Kinnaird will be preaching on Mark 4:35 – 5:43 \nThere will be a creche provided and activities for under 8s. \nCoffee\, tea and biscuits will be provided after the service so you can chat with people. \nPlease join us\, everyone is welcome and we would love to have you come along. \n 
URL:https://aigburth.church/event/sunday-morning-service-56
LOCATION:Aigburth Community Church\, Dundonald Road\, Liverpool\, Merseyside\, L17 0AE\, United Kingdom
CATEGORIES:Sunday Services
END:VEVENT
BEGIN:VEVENT
DTSTART;TZID=Europe/London:20231105T180000
DTEND;TZID=Europe/London:20231105T190000
DTSTAMP:20260424T175013
CREATED:20231107T113635Z
LAST-MODIFIED:20231107T113702Z
UID:8110-1699207200-1699210800@aigburth.church
SUMMARY:Sunday Evening Meeting - International Prayer Meeting
DESCRIPTION:This is where we meet to pray for our church and churches further afield\, everyone is welcome so please do try and attend if you can. \nCoffee and tea will be available.
URL:https://aigburth.church/event/evening-meeting-international-prayer-meeting
LOCATION:Aigburth Community Church\, Dundonald Road\, Liverpool\, Merseyside\, L17 0AE\, United Kingdom
CATEGORIES:Sunday Services
END:VEVENT
BEGIN:VEVENT
DTSTART;TZID=Europe/London:20231112T110000
DTEND;TZID=Europe/London:20231112T123000
DTSTAMP:20260424T175013
CREATED:20231107T100049Z
LAST-MODIFIED:20231107T100049Z
UID:8091-1699786800-1699792200@aigburth.church
SUMMARY:Sunday Morning Service
DESCRIPTION:Ed Peck will be preaching on Mark 6:1-29. \nThere will be a creche provided and activities for under 8s. \nCoffee\, tea and biscuits will be provided after the service so you can chat with people. \nPlease join us\, everyone is welcome and we would love to have you come along. \n 
URL:https://aigburth.church/event/sunday-morning-service-57
LOCATION:Aigburth Community Church\, Dundonald Road\, Liverpool\, Merseyside\, L17 0AE\, United Kingdom
CATEGORIES:Sunday Services
END:VEVENT
BEGIN:VEVENT
DTSTART;TZID=Europe/London:20231112T180000
DTEND;TZID=Europe/London:20231112T190000
DTSTAMP:20260424T175013
CREATED:20231107T114011Z
LAST-MODIFIED:20231107T114011Z
UID:8112-1699812000-1699815600@aigburth.church
SUMMARY:Sunday Evening Meeting - Praise and Devotional Meeting
DESCRIPTION:This is a chance for us to meet together\, with readings and singing\, with the single aim of pointing us to Jesus\, closing with us celebrating the Lord’s supper as a church family\, everyone is welcome so please do come and join us. \nTea and coffee will be available on the evening
URL:https://aigburth.church/event/sunday-evening-meeting-praise-and-devotional-meeting
LOCATION:Aigburth Community Church\, Dundonald Road\, Liverpool\, Merseyside\, L17 0AE\, United Kingdom
CATEGORIES:Sunday Services
END:VEVENT
BEGIN:VEVENT
DTSTART;TZID=Europe/London:20231119T110000
DTEND;TZID=Europe/London:20231119T123000
DTSTAMP:20260424T175013
CREATED:20231107T100219Z
LAST-MODIFIED:20231107T100219Z
UID:8093-1700391600-1700397000@aigburth.church
SUMMARY:Sunday Morning Service
DESCRIPTION:Rich Grindey will be preaching on Mark 6:30-56. \nThere will be a creche provided and activities for under 8s. \nCoffee\, tea and biscuits will be provided after the service so you can chat with people. \nPlease join us\, everyone is welcome and we would love to have you come along. \n 
URL:https://aigburth.church/event/sunday-morning-service-58
LOCATION:Aigburth Community Church\, Dundonald Road\, Liverpool\, Merseyside\, L17 0AE\, United Kingdom
CATEGORIES:Sunday Services
END:VEVENT
BEGIN:VEVENT
DTSTART;TZID=Europe/London:20231119T180000
DTEND;TZID=Europe/London:20231119T190000
DTSTAMP:20260424T175013
CREATED:20231107T114133Z
LAST-MODIFIED:20231107T114133Z
UID:8116-1700416800-1700420400@aigburth.church
SUMMARY:Sunday Evening Meeting - Prayer Meeting
DESCRIPTION:This is where we meet to pray for our church and the local community\, everyone is welcome so please do come and join us. \nCoffee and tea will be available.
URL:https://aigburth.church/event/sunday-evening-meeting-prayer-meeting
LOCATION:Aigburth Community Church\, Dundonald Road\, Liverpool\, Merseyside\, L17 0AE\, United Kingdom
CATEGORIES:Sunday Services
END:VEVENT
BEGIN:VEVENT
DTSTART;TZID=Europe/London:20231126T110000
DTEND;TZID=Europe/London:20231126T123000
DTSTAMP:20260424T175013
CREATED:20231107T100339Z
LAST-MODIFIED:20231107T100339Z
UID:8095-1700996400-1701001800@aigburth.church
SUMMARY:Sunday Morning Service
DESCRIPTION:Maurice Kinnaird will be preaching on Mark 7:1-30. \nThere will be a creche provided and activities for under 8s. \nCoffee\, tea and biscuits will be provided after the service so you can chat with people. \nPlease join us\, everyone is welcome and we would love to have you come along. \nThis service will include the Lord’s Supper.
URL:https://aigburth.church/event/sunday-morning-service-59
LOCATION:Aigburth Community Church\, Dundonald Road\, Liverpool\, Merseyside\, L17 0AE\, United Kingdom
CATEGORIES:Sunday Services
END:VEVENT
BEGIN:VEVENT
DTSTART;TZID=Europe/London:20231126T170000
DTEND;TZID=Europe/London:20231126T183000
DTSTAMP:20260424T175013
CREATED:20231107T114611Z
LAST-MODIFIED:20231107T114611Z
UID:8118-1701018000-1701023400@aigburth.church
SUMMARY:Sunday Evening Meeting - Church Meal
DESCRIPTION:This is a regular opportunity to come together as a church family over a nice meal. If you would like to join us\, please do come along\, we will have extra and we would love for you to join us.
URL:https://aigburth.church/event/sunday-evening-meeting-church-meal
LOCATION:Aigburth Community Church\, Dundonald Road\, Liverpool\, Merseyside\, L17 0AE\, United Kingdom
CATEGORIES:Sunday Services
END:VEVENT
BEGIN:VEVENT
DTSTART;TZID=Europe/London:20231203T110000
DTEND;TZID=Europe/London:20231203T123000
DTSTAMP:20260424T175013
CREATED:20231107T100536Z
LAST-MODIFIED:20231107T100536Z
UID:8097-1701601200-1701606600@aigburth.church
SUMMARY:Sunday Morning Service
DESCRIPTION:Jeremy Clark will be preaching on Mark 7:31 – 8:33. \nThere will be a creche provided and activities for under 8s. \nCoffee\, tea and biscuits will be provided after the service so you can chat with people. \nPlease join us\, everyone is welcome and we would love to have you come along. \n 
URL:https://aigburth.church/event/sunday-morning-service-60
LOCATION:Aigburth Community Church\, Dundonald Road\, Liverpool\, Merseyside\, L17 0AE\, United Kingdom
CATEGORIES:Sunday Services
END:VEVENT
BEGIN:VEVENT
DTSTART;TZID=Europe/London:20231203T180000
DTEND;TZID=Europe/London:20231203T190000
DTSTAMP:20260424T175013
CREATED:20231107T114530Z
LAST-MODIFIED:20231107T114530Z
UID:8119-1701626400-1701630000@aigburth.church
SUMMARY:Sunday Evening Meeting - Prayer Meeting
DESCRIPTION:This is where we meet to pray for our church and the local community\, everyone is welcome so please do come and join us. \nCoffee and tea will be available.
URL:https://aigburth.church/event/sunday-evening-meeting-prayer-meeting-2
LOCATION:Aigburth Community Church\, Dundonald Road\, Liverpool\, Merseyside\, L17 0AE\, United Kingdom
CATEGORIES:Sunday Services
END:VEVENT
BEGIN:VEVENT
DTSTART;TZID=Europe/London:20231210T110000
DTEND;TZID=Europe/London:20231210T123000
DTSTAMP:20260424T175013
CREATED:20231107T100946Z
LAST-MODIFIED:20231107T101006Z
UID:8099-1702206000-1702211400@aigburth.church
SUMMARY:Sunday Morning Service (Christmas Series)
DESCRIPTION:Please join us for our Christmas series\, where Ed Peck will be preaching on Isaiah 7:14\, ‘Truly With Us’. \nThere will be a creche provided and activities for under 8s. \nCoffee\, tea and biscuits will be provided after the service so you can chat with people. \nPlease join us\, everyone is welcome and we would love to have you come along. \n 
URL:https://aigburth.church/event/sunday-morning-service-christmas-series
LOCATION:Aigburth Community Church\, Dundonald Road\, Liverpool\, Merseyside\, L17 0AE\, United Kingdom
CATEGORIES:Sunday Services
END:VEVENT
BEGIN:VEVENT
DTSTART;TZID=Europe/London:20231217T110000
DTEND;TZID=Europe/London:20231217T123000
DTSTAMP:20260424T175013
CREATED:20231107T101235Z
LAST-MODIFIED:20231107T101235Z
UID:8102-1702810800-1702816200@aigburth.church
SUMMARY:Sunday Morning Service (Christmas Series)
DESCRIPTION:Please join us for our Christmas series\, where John Critchley will be preaching on Hebrews 2:5-18\, ‘Truly Human’. \nThere will be a creche provided and activities for under 8s. \nCoffee\, tea and biscuits will be provided after the service so you can chat with people. \nPlease join us\, everyone is welcome and we would love to have you come along. \nThis service will include the Lord’s Supper.
URL:https://aigburth.church/event/sunday-morning-service-christmas-series-2
LOCATION:Aigburth Community Church\, Dundonald Road\, Liverpool\, Merseyside\, L17 0AE\, United Kingdom
CATEGORIES:Sunday Services
END:VEVENT
BEGIN:VEVENT
DTSTART;TZID=Europe/London:20231224T104500
DTEND;TZID=Europe/London:20231224T123000
DTSTAMP:20260424T175013
CREATED:20231107T101744Z
LAST-MODIFIED:20231219T122244Z
UID:8104-1703414700-1703421000@aigburth.church
SUMMARY:Sunday Morning All Age Carol Service
DESCRIPTION:Please join us for our ‘All Age Christmas’\, where Marco Hipwell will be preaching on Isaiah 9:1-7 \, ‘Truly King’. Celebrating Christmas with the whole family! \nJoin us for an interactive service\, with songs\, activities and refreshments. Kids are welcome to come dressed up in a fun nativity outfit or Christmas jumper.
URL:https://aigburth.church/event/sunday-morning-all-age-carol-service
LOCATION:Aigburth Community Church\, Dundonald Road\, Liverpool\, Merseyside\, L17 0AE\, United Kingdom
CATEGORIES:Sunday Services
END:VEVENT
BEGIN:VEVENT
DTSTART;TZID=Europe/London:20231231T110000
DTEND;TZID=Europe/London:20231231T123000
DTSTAMP:20260424T175013
CREATED:20231219T122746Z
LAST-MODIFIED:20231219T122746Z
UID:8181-1704020400-1704025800@aigburth.church
SUMMARY:Sunday Morning All Age Service (Christmas Series)
DESCRIPTION:Please join us for the last of our Christmas series\, where Jeremy Clark will be preaching on Hebrews 9:28\, ‘Truly Returning’. \nThis will be an all age service but there will be a creche space available. \nCoffee will be provided after the service so you can chat with people.
URL:https://aigburth.church/event/sunday-morning-all-age-service-christmas-series
LOCATION:Aigburth Community Church\, Dundonald Road\, Liverpool\, Merseyside\, L17 0AE\, United Kingdom
CATEGORIES:Sunday Services
END:VEVENT
BEGIN:VEVENT
DTSTART;TZID=Europe/London:20240107T110000
DTEND;TZID=Europe/London:20240107T123000
DTSTAMP:20260424T175013
CREATED:20231219T123048Z
LAST-MODIFIED:20231219T123048Z
UID:8183-1704625200-1704630600@aigburth.church
SUMMARY:Sunday Morning Service
DESCRIPTION:Ed Peck will be preaching on Mark 8:31-9:13. \nThere will be a creche provided and activities for under 8s. \nCoffee\, tea and biscuits will be provided after the service so you can chat with people. \nPlease join us\, everyone is welcome and we would love to have you come along.
URL:https://aigburth.church/event/sunday-morning-service-61
LOCATION:Aigburth Community Church\, Dundonald Road\, Liverpool\, Merseyside\, L17 0AE\, United Kingdom
CATEGORIES:Sunday Services
END:VEVENT
BEGIN:VEVENT
DTSTART;TZID=Europe/London:20240107T180000
DTEND;TZID=Europe/London:20240107T190000
DTSTAMP:20260424T175013
CREATED:20231219T125502Z
LAST-MODIFIED:20231219T125502Z
UID:8207-1704650400-1704654000@aigburth.church
SUMMARY:Sunday Evening Meeting - Prayer Meeting
DESCRIPTION:This is where we meet to pray for our church and the local community\, everyone is welcome so please do come and join us. \nCoffee and tea will be available.
URL:https://aigburth.church/event/sunday-evening-meeting-prayer-meeting-3
LOCATION:Aigburth Community Church\, Dundonald Road\, Liverpool\, Merseyside\, L17 0AE\, United Kingdom
CATEGORIES:Sunday Services
END:VEVENT
BEGIN:VEVENT
DTSTART;TZID=Europe/London:20240114T110000
DTEND;TZID=Europe/London:20240114T123000
DTSTAMP:20260424T175013
CREATED:20231219T123230Z
LAST-MODIFIED:20231219T123230Z
UID:8185-1705230000-1705235400@aigburth.church
SUMMARY:Sunday Morning Service
DESCRIPTION:Jeremy Clark will be preaching on Mark 9:14-32. \nThere will be a creche provided and activities for under 8s. \nCoffee\, tea and biscuits will be provided after the service so you can chat with people. \nPlease join us\, everyone is welcome and we would love to have you come along.
URL:https://aigburth.church/event/sunday-morning-service-62
LOCATION:Aigburth Community Church\, Dundonald Road\, Liverpool\, Merseyside\, L17 0AE\, United Kingdom
CATEGORIES:Sunday Services
END:VEVENT
BEGIN:VEVENT
DTSTART;TZID=Europe/London:20240114T180000
DTEND;TZID=Europe/London:20240114T190000
DTSTAMP:20260424T175013
CREATED:20231219T125546Z
LAST-MODIFIED:20231219T125546Z
UID:8209-1705255200-1705258800@aigburth.church
SUMMARY:Sunday Evening Meeting - Praise and Devotional Meeting
DESCRIPTION:This is a chance for us to meet together\, with readings and singing\, with the single aim of pointing us to Jesus\, closing with us celebrating the Lord’s supper as a church family\, everyone is welcome so please do come and join us. \nTea and coffee will be available on the evening
URL:https://aigburth.church/event/sunday-evening-meeting-praise-and-devotional-meeting-2
LOCATION:Aigburth Community Church\, Dundonald Road\, Liverpool\, Merseyside\, L17 0AE\, United Kingdom
CATEGORIES:Sunday Services
END:VEVENT
BEGIN:VEVENT
DTSTART;TZID=Europe/London:20240121T110000
DTEND;TZID=Europe/London:20240121T123000
DTSTAMP:20260424T175013
CREATED:20231219T123407Z
LAST-MODIFIED:20231219T123407Z
UID:8187-1705834800-1705840200@aigburth.church
SUMMARY:Sunday Morning Service
DESCRIPTION:There will be a service on Mark 7:31 – 8:33. \nThere will be a creche provided and activities for under 8s. \nCoffee\, tea and biscuits will be provided after the service so you can chat with people. \nPlease join us\, everyone is welcome and we would love to have you come along.
URL:https://aigburth.church/event/sunday-morning-service-63
LOCATION:Aigburth Community Church\, Dundonald Road\, Liverpool\, Merseyside\, L17 0AE\, United Kingdom
CATEGORIES:Sunday Services
END:VEVENT
BEGIN:VEVENT
DTSTART;TZID=Europe/London:20240121T180000
DTEND;TZID=Europe/London:20240121T190000
DTSTAMP:20260424T175013
CREATED:20231219T125623Z
LAST-MODIFIED:20231219T125623Z
UID:8211-1705860000-1705863600@aigburth.church
SUMMARY:Sunday Evening Meeting - Prayer Meeting
DESCRIPTION:This is where we meet to pray for our church and the local community\, everyone is welcome so please do come and join us. \nCoffee and tea will be available.
URL:https://aigburth.church/event/sunday-evening-meeting-prayer-meeting-4
LOCATION:Aigburth Community Church\, Dundonald Road\, Liverpool\, Merseyside\, L17 0AE\, United Kingdom
CATEGORIES:Sunday Services
END:VEVENT
BEGIN:VEVENT
DTSTART;TZID=Europe/London:20240128T110000
DTEND;TZID=Europe/London:20240128T123000
DTSTAMP:20260424T175013
CREATED:20231219T123636Z
LAST-MODIFIED:20231219T123636Z
UID:8189-1706439600-1706445000@aigburth.church
SUMMARY:Sunday Morning Service
DESCRIPTION:Jeremy Clark will be preaching on Mark 10:32-52. The Lord’s Supper will be provided at this service. \nThere will be a creche provided and activities for under 8s. \nCoffee\, tea and biscuits will be provided after the service so you can chat with people. \nPlease join us\, everyone is welcome and we would love to have you come along.
URL:https://aigburth.church/event/sunday-morning-service-64
LOCATION:Aigburth Community Church\, Dundonald Road\, Liverpool\, Merseyside\, L17 0AE\, United Kingdom
CATEGORIES:Sunday Services
END:VEVENT
BEGIN:VEVENT
DTSTART;TZID=Europe/London:20240128T170000
DTEND;TZID=Europe/London:20240128T183000
DTSTAMP:20260424T175013
CREATED:20231219T125714Z
LAST-MODIFIED:20231219T125714Z
UID:8213-1706461200-1706466600@aigburth.church
SUMMARY:Sunday Evening Meeting - Church Meal
DESCRIPTION:This is a regular opportunity to come together as a church family over a nice meal. If you would like to join us\, please do come along\, we will have extra and we would love for you to join us.
URL:https://aigburth.church/event/sunday-evening-meeting-church-meal-2
LOCATION:Aigburth Community Church\, Dundonald Road\, Liverpool\, Merseyside\, L17 0AE\, United Kingdom
CATEGORIES:Sunday Services
END:VEVENT
BEGIN:VEVENT
DTSTART;TZID=Europe/London:20240204T110000
DTEND;TZID=Europe/London:20240204T123000
DTSTAMP:20260424T175013
CREATED:20231219T123824Z
LAST-MODIFIED:20231219T123824Z
UID:8191-1707044400-1707049800@aigburth.church
SUMMARY:Sunday Morning Service
DESCRIPTION:Maurice McCracken will be preaching on Mark 11:1-26. \nThere will be a creche provided and activities for under 8s. \nCoffee\, tea and biscuits will be provided after the service so you can chat with people. \nPlease join us\, everyone is welcome and we would love to have you come along.
URL:https://aigburth.church/event/sunday-morning-service-65
LOCATION:Aigburth Community Church\, Dundonald Road\, Liverpool\, Merseyside\, L17 0AE\, United Kingdom
CATEGORIES:Sunday Services
END:VEVENT
BEGIN:VEVENT
DTSTART;TZID=Europe/London:20240204T180000
DTEND;TZID=Europe/London:20240204T190000
DTSTAMP:20260424T175013
CREATED:20231219T125750Z
LAST-MODIFIED:20231219T125750Z
UID:8215-1707069600-1707073200@aigburth.church
SUMMARY:Sunday Evening Meeting - Prayer Meeting
DESCRIPTION:This is where we meet to pray for our church and the local community\, everyone is welcome so please do come and join us. \nCoffee and tea will be available.
URL:https://aigburth.church/event/sunday-evening-meeting-prayer-meeting-5
LOCATION:Aigburth Community Church\, Dundonald Road\, Liverpool\, Merseyside\, L17 0AE\, United Kingdom
CATEGORIES:Sunday Services
END:VEVENT
BEGIN:VEVENT
DTSTART;TZID=Europe/London:20240211T110000
DTEND;TZID=Europe/London:20240211T123000
DTSTAMP:20260424T175013
CREATED:20231219T124010Z
LAST-MODIFIED:20231219T124010Z
UID:8193-1707649200-1707654600@aigburth.church
SUMMARY:Sunday Morning Service
DESCRIPTION:Rich Grindey will be preaching on Mark 11:27-12:12. \nThere will be a creche provided and activities for under 8s. \nCoffee\, tea and biscuits will be provided after the service so you can chat with people. \nPlease join us\, everyone is welcome and we would love to have you come along. \n 
URL:https://aigburth.church/event/sunday-morning-service-66
LOCATION:Aigburth Community Church\, Dundonald Road\, Liverpool\, Merseyside\, L17 0AE\, United Kingdom
CATEGORIES:Sunday Services
END:VEVENT
END:VCALENDAR