BEGIN:VCALENDAR
VERSION:2.0
PRODID:-//Aigburth Community Church - ECPv6.15.20//NONSGML v1.0//EN
CALSCALE:GREGORIAN
METHOD:PUBLISH
X-WR-CALNAME:Aigburth Community Church
X-ORIGINAL-URL:https://aigburth.church
X-WR-CALDESC:Events for Aigburth Community Church
REFRESH-INTERVAL;VALUE=DURATION:PT1H
X-Robots-Tag:noindex
X-PUBLISHED-TTL:PT1H
BEGIN:VTIMEZONE
TZID:Europe/London
BEGIN:DAYLIGHT
TZOFFSETFROM:+0000
TZOFFSETTO:+0100
TZNAME:BST
DTSTART:20230326T010000
END:DAYLIGHT
BEGIN:STANDARD
TZOFFSETFROM:+0100
TZOFFSETTO:+0000
TZNAME:GMT
DTSTART:20231029T010000
END:STANDARD
BEGIN:DAYLIGHT
TZOFFSETFROM:+0000
TZOFFSETTO:+0100
TZNAME:BST
DTSTART:20240331T010000
END:DAYLIGHT
BEGIN:STANDARD
TZOFFSETFROM:+0100
TZOFFSETTO:+0000
TZNAME:GMT
DTSTART:20241027T010000
END:STANDARD
BEGIN:DAYLIGHT
TZOFFSETFROM:+0000
TZOFFSETTO:+0100
TZNAME:BST
DTSTART:20250330T010000
END:DAYLIGHT
BEGIN:STANDARD
TZOFFSETFROM:+0100
TZOFFSETTO:+0000
TZNAME:GMT
DTSTART:20251026T010000
END:STANDARD
END:VTIMEZONE
BEGIN:VEVENT
DTSTART;TZID=Europe/London:20241103T110000
DTEND;TZID=Europe/London:20241103T123000
DTSTAMP:20260423T184116
CREATED:20240820T085327Z
LAST-MODIFIED:20240820T085327Z
UID:8500-1730631600-1730637000@aigburth.church
SUMMARY:Sunday Morning Service
DESCRIPTION:An Elder will be preaching on 2 Timothy 3:1-17. \nThere will be a creche provided and activities for under 8s. \nCoffee\, tea and biscuits will be provided after the service so you can chat with people. \nPlease join us\, everyone is welcome and we would love to have you come along.
URL:https://aigburth.church/event/sunday-morning-service-96
LOCATION:Aigburth Community Church\, Dundonald Road\, Liverpool\, Merseyside\, L17 0AE\, United Kingdom
CATEGORIES:Sunday Services
END:VEVENT
BEGIN:VEVENT
DTSTART;TZID=Europe/London:20241103T180000
DTEND;TZID=Europe/London:20241103T190000
DTSTAMP:20260423T184116
CREATED:20240820T090425Z
LAST-MODIFIED:20240820T090425Z
UID:8522-1730656800-1730660400@aigburth.church
SUMMARY:Sunday Evening Meeting - Prayer Meeting
DESCRIPTION:This is where we meet to pray for our church and the local community\, everyone is welcome so please do come and join us. \nCoffee and tea will be available.
URL:https://aigburth.church/event/sunday-evening-meeting-prayer-meeting-21
LOCATION:Aigburth Community Church\, Dundonald Road\, Liverpool\, Merseyside\, L17 0AE\, United Kingdom
CATEGORIES:Sunday Services
END:VEVENT
BEGIN:VEVENT
DTSTART;TZID=Europe/London:20241110T110000
DTEND;TZID=Europe/London:20241110T123000
DTSTAMP:20260423T184116
CREATED:20240820T085432Z
LAST-MODIFIED:20240820T085432Z
UID:8502-1731236400-1731241800@aigburth.church
SUMMARY:Sunday Morning Service
DESCRIPTION:An Elder will be preaching on 2 Timothy 4:1-22. \nThere will be a creche provided and activities for under 8s. \nCoffee\, tea and biscuits will be provided after the service so you can chat with people. \nPlease join us\, everyone is welcome and we would love to have you come along.
URL:https://aigburth.church/event/sunday-morning-service-97
LOCATION:Aigburth Community Church\, Dundonald Road\, Liverpool\, Merseyside\, L17 0AE\, United Kingdom
CATEGORIES:Sunday Services
END:VEVENT
BEGIN:VEVENT
DTSTART;TZID=Europe/London:20241110T180000
DTEND;TZID=Europe/London:20241110T190000
DTSTAMP:20260423T184116
CREATED:20240820T090030Z
LAST-MODIFIED:20240820T090030Z
UID:8512-1731261600-1731265200@aigburth.church
SUMMARY:Sunday Evening Meeting - Praise and Devotional Meeting
DESCRIPTION:This is a chance for us to meet together\, with readings and singing\, with the single aim of pointing us to Jesus\, closing with us celebrating the Lord’s supper as a church family\, everyone is welcome so please do come and join us. \nTea and coffee will be available on the evening
URL:https://aigburth.church/event/sunday-evening-meeting-praise-and-devotional-meeting-11
LOCATION:Aigburth Community Church\, Dundonald Road\, Liverpool\, Merseyside\, L17 0AE\, United Kingdom
CATEGORIES:Sunday Services
END:VEVENT
BEGIN:VEVENT
DTSTART;TZID=Europe/London:20241117T110000
DTEND;TZID=Europe/London:20241117T123000
DTSTAMP:20260423T184116
CREATED:20240820T085544Z
LAST-MODIFIED:20240820T085544Z
UID:8504-1731841200-1731846600@aigburth.church
SUMMARY:Sunday Morning Service
DESCRIPTION:An Elder will be preaching on Proverbs 22:6 – Wisdom in the Family. \nThere will be a creche provided and activities for under 8s. \nCoffee\, tea and biscuits will be provided after the service so you can chat with people. \nPlease join us\, everyone is welcome and we would love to have you come along.
URL:https://aigburth.church/event/sunday-morning-service-98
LOCATION:Aigburth Community Church\, Dundonald Road\, Liverpool\, Merseyside\, L17 0AE\, United Kingdom
CATEGORIES:Sunday Services
END:VEVENT
BEGIN:VEVENT
DTSTART;TZID=Europe/London:20241117T180000
DTEND;TZID=Europe/London:20241117T190000
DTSTAMP:20260423T184116
CREATED:20240820T090500Z
LAST-MODIFIED:20240820T090500Z
UID:8524-1731866400-1731870000@aigburth.church
SUMMARY:Sunday Evening Meeting - Prayer Meeting
DESCRIPTION:This is where we meet to pray for our church and the local community\, everyone is welcome so please do come and join us. \nCoffee and tea will be available.
URL:https://aigburth.church/event/sunday-evening-meeting-prayer-meeting-22
LOCATION:Aigburth Community Church\, Dundonald Road\, Liverpool\, Merseyside\, L17 0AE\, United Kingdom
CATEGORIES:Sunday Services
END:VEVENT
BEGIN:VEVENT
DTSTART;TZID=Europe/London:20241124T110000
DTEND;TZID=Europe/London:20241124T123000
DTSTAMP:20260423T184116
CREATED:20240820T085737Z
LAST-MODIFIED:20240820T085737Z
UID:8506-1732446000-1732451400@aigburth.church
SUMMARY:Sunday Morning Service
DESCRIPTION:An Elder will be preaching on Proverbs 8:12-36; 30:1-4 – Jesus is Wisdom. \nThere will be a creche provided and activities for under 8s. The Lord’s Supper will be provided at this service. \nCoffee\, tea and biscuits will be provided after the service so you can chat with people. \nPlease join us\, everyone is welcome and we would love to have you come along.
URL:https://aigburth.church/event/sunday-morning-service-99
CATEGORIES:Sunday Services
END:VEVENT
END:VCALENDAR