BEGIN:VCALENDAR
VERSION:2.0
PRODID:-//Aigburth Community Church - ECPv6.15.20//NONSGML v1.0//EN
CALSCALE:GREGORIAN
METHOD:PUBLISH
X-WR-CALNAME:Aigburth Community Church
X-ORIGINAL-URL:https://aigburth.church
X-WR-CALDESC:Events for Aigburth Community Church
REFRESH-INTERVAL;VALUE=DURATION:PT1H
X-Robots-Tag:noindex
X-PUBLISHED-TTL:PT1H
BEGIN:VTIMEZONE
TZID:Europe/London
BEGIN:DAYLIGHT
TZOFFSETFROM:+0000
TZOFFSETTO:+0100
TZNAME:BST
DTSTART:20230326T010000
END:DAYLIGHT
BEGIN:STANDARD
TZOFFSETFROM:+0100
TZOFFSETTO:+0000
TZNAME:GMT
DTSTART:20231029T010000
END:STANDARD
BEGIN:DAYLIGHT
TZOFFSETFROM:+0000
TZOFFSETTO:+0100
TZNAME:BST
DTSTART:20240331T010000
END:DAYLIGHT
BEGIN:STANDARD
TZOFFSETFROM:+0100
TZOFFSETTO:+0000
TZNAME:GMT
DTSTART:20241027T010000
END:STANDARD
BEGIN:DAYLIGHT
TZOFFSETFROM:+0000
TZOFFSETTO:+0100
TZNAME:BST
DTSTART:20250330T010000
END:DAYLIGHT
BEGIN:STANDARD
TZOFFSETFROM:+0100
TZOFFSETTO:+0000
TZNAME:GMT
DTSTART:20251026T010000
END:STANDARD
END:VTIMEZONE
BEGIN:VEVENT
DTSTART;TZID=Europe/London:20240107T110000
DTEND;TZID=Europe/London:20240107T123000
DTSTAMP:20260424T100159
CREATED:20231219T123048Z
LAST-MODIFIED:20231219T123048Z
UID:8183-1704625200-1704630600@aigburth.church
SUMMARY:Sunday Morning Service
DESCRIPTION:Ed Peck will be preaching on Mark 8:31-9:13. \nThere will be a creche provided and activities for under 8s. \nCoffee\, tea and biscuits will be provided after the service so you can chat with people. \nPlease join us\, everyone is welcome and we would love to have you come along.
URL:https://aigburth.church/event/sunday-morning-service-61
LOCATION:Aigburth Community Church\, Dundonald Road\, Liverpool\, Merseyside\, L17 0AE\, United Kingdom
CATEGORIES:Sunday Services
END:VEVENT
BEGIN:VEVENT
DTSTART;TZID=Europe/London:20240107T180000
DTEND;TZID=Europe/London:20240107T190000
DTSTAMP:20260424T100159
CREATED:20231219T125502Z
LAST-MODIFIED:20231219T125502Z
UID:8207-1704650400-1704654000@aigburth.church
SUMMARY:Sunday Evening Meeting - Prayer Meeting
DESCRIPTION:This is where we meet to pray for our church and the local community\, everyone is welcome so please do come and join us. \nCoffee and tea will be available.
URL:https://aigburth.church/event/sunday-evening-meeting-prayer-meeting-3
LOCATION:Aigburth Community Church\, Dundonald Road\, Liverpool\, Merseyside\, L17 0AE\, United Kingdom
CATEGORIES:Sunday Services
END:VEVENT
BEGIN:VEVENT
DTSTART;TZID=Europe/London:20240114T110000
DTEND;TZID=Europe/London:20240114T123000
DTSTAMP:20260424T100159
CREATED:20231219T123230Z
LAST-MODIFIED:20231219T123230Z
UID:8185-1705230000-1705235400@aigburth.church
SUMMARY:Sunday Morning Service
DESCRIPTION:Jeremy Clark will be preaching on Mark 9:14-32. \nThere will be a creche provided and activities for under 8s. \nCoffee\, tea and biscuits will be provided after the service so you can chat with people. \nPlease join us\, everyone is welcome and we would love to have you come along.
URL:https://aigburth.church/event/sunday-morning-service-62
LOCATION:Aigburth Community Church\, Dundonald Road\, Liverpool\, Merseyside\, L17 0AE\, United Kingdom
CATEGORIES:Sunday Services
END:VEVENT
BEGIN:VEVENT
DTSTART;TZID=Europe/London:20240114T180000
DTEND;TZID=Europe/London:20240114T190000
DTSTAMP:20260424T100159
CREATED:20231219T125546Z
LAST-MODIFIED:20231219T125546Z
UID:8209-1705255200-1705258800@aigburth.church
SUMMARY:Sunday Evening Meeting - Praise and Devotional Meeting
DESCRIPTION:This is a chance for us to meet together\, with readings and singing\, with the single aim of pointing us to Jesus\, closing with us celebrating the Lord’s supper as a church family\, everyone is welcome so please do come and join us. \nTea and coffee will be available on the evening
URL:https://aigburth.church/event/sunday-evening-meeting-praise-and-devotional-meeting-2
LOCATION:Aigburth Community Church\, Dundonald Road\, Liverpool\, Merseyside\, L17 0AE\, United Kingdom
CATEGORIES:Sunday Services
END:VEVENT
BEGIN:VEVENT
DTSTART;TZID=Europe/London:20240121T110000
DTEND;TZID=Europe/London:20240121T123000
DTSTAMP:20260424T100159
CREATED:20231219T123407Z
LAST-MODIFIED:20231219T123407Z
UID:8187-1705834800-1705840200@aigburth.church
SUMMARY:Sunday Morning Service
DESCRIPTION:There will be a service on Mark 7:31 – 8:33. \nThere will be a creche provided and activities for under 8s. \nCoffee\, tea and biscuits will be provided after the service so you can chat with people. \nPlease join us\, everyone is welcome and we would love to have you come along.
URL:https://aigburth.church/event/sunday-morning-service-63
LOCATION:Aigburth Community Church\, Dundonald Road\, Liverpool\, Merseyside\, L17 0AE\, United Kingdom
CATEGORIES:Sunday Services
END:VEVENT
BEGIN:VEVENT
DTSTART;TZID=Europe/London:20240121T180000
DTEND;TZID=Europe/London:20240121T190000
DTSTAMP:20260424T100159
CREATED:20231219T125623Z
LAST-MODIFIED:20231219T125623Z
UID:8211-1705860000-1705863600@aigburth.church
SUMMARY:Sunday Evening Meeting - Prayer Meeting
DESCRIPTION:This is where we meet to pray for our church and the local community\, everyone is welcome so please do come and join us. \nCoffee and tea will be available.
URL:https://aigburth.church/event/sunday-evening-meeting-prayer-meeting-4
LOCATION:Aigburth Community Church\, Dundonald Road\, Liverpool\, Merseyside\, L17 0AE\, United Kingdom
CATEGORIES:Sunday Services
END:VEVENT
BEGIN:VEVENT
DTSTART;TZID=Europe/London:20240128T110000
DTEND;TZID=Europe/London:20240128T123000
DTSTAMP:20260424T100159
CREATED:20231219T123636Z
LAST-MODIFIED:20231219T123636Z
UID:8189-1706439600-1706445000@aigburth.church
SUMMARY:Sunday Morning Service
DESCRIPTION:Jeremy Clark will be preaching on Mark 10:32-52. The Lord’s Supper will be provided at this service. \nThere will be a creche provided and activities for under 8s. \nCoffee\, tea and biscuits will be provided after the service so you can chat with people. \nPlease join us\, everyone is welcome and we would love to have you come along.
URL:https://aigburth.church/event/sunday-morning-service-64
LOCATION:Aigburth Community Church\, Dundonald Road\, Liverpool\, Merseyside\, L17 0AE\, United Kingdom
CATEGORIES:Sunday Services
END:VEVENT
BEGIN:VEVENT
DTSTART;TZID=Europe/London:20240128T170000
DTEND;TZID=Europe/London:20240128T183000
DTSTAMP:20260424T100159
CREATED:20231219T125714Z
LAST-MODIFIED:20231219T125714Z
UID:8213-1706461200-1706466600@aigburth.church
SUMMARY:Sunday Evening Meeting - Church Meal
DESCRIPTION:This is a regular opportunity to come together as a church family over a nice meal. If you would like to join us\, please do come along\, we will have extra and we would love for you to join us.
URL:https://aigburth.church/event/sunday-evening-meeting-church-meal-2
LOCATION:Aigburth Community Church\, Dundonald Road\, Liverpool\, Merseyside\, L17 0AE\, United Kingdom
CATEGORIES:Sunday Services
END:VEVENT
END:VCALENDAR