BEGIN:VCALENDAR
VERSION:2.0
PRODID:-//Aigburth Community Church - ECPv6.15.20//NONSGML v1.0//EN
CALSCALE:GREGORIAN
METHOD:PUBLISH
X-WR-CALNAME:Aigburth Community Church
X-ORIGINAL-URL:https://aigburth.church
X-WR-CALDESC:Events for Aigburth Community Church
REFRESH-INTERVAL;VALUE=DURATION:PT1H
X-Robots-Tag:noindex
X-PUBLISHED-TTL:PT1H
BEGIN:VTIMEZONE
TZID:Europe/London
BEGIN:DAYLIGHT
TZOFFSETFROM:+0000
TZOFFSETTO:+0100
TZNAME:BST
DTSTART:20220327T010000
END:DAYLIGHT
BEGIN:STANDARD
TZOFFSETFROM:+0100
TZOFFSETTO:+0000
TZNAME:GMT
DTSTART:20221030T010000
END:STANDARD
BEGIN:DAYLIGHT
TZOFFSETFROM:+0000
TZOFFSETTO:+0100
TZNAME:BST
DTSTART:20230326T010000
END:DAYLIGHT
BEGIN:STANDARD
TZOFFSETFROM:+0100
TZOFFSETTO:+0000
TZNAME:GMT
DTSTART:20231029T010000
END:STANDARD
BEGIN:DAYLIGHT
TZOFFSETFROM:+0000
TZOFFSETTO:+0100
TZNAME:BST
DTSTART:20240331T010000
END:DAYLIGHT
BEGIN:STANDARD
TZOFFSETFROM:+0100
TZOFFSETTO:+0000
TZNAME:GMT
DTSTART:20241027T010000
END:STANDARD
END:VTIMEZONE
BEGIN:VEVENT
DTSTART;TZID=Europe/London:20231001T110000
DTEND;TZID=Europe/London:20231001T120000
DTSTAMP:20260424T141326
CREATED:20230907T095253Z
LAST-MODIFIED:20230907T095253Z
UID:7999-1696158000-1696161600@aigburth.church
SUMMARY:Sunday Morning Service
DESCRIPTION:Jeremy Clark will be preaching on Mark 2:1-17. \nThere will be a creche provided and activities for under 8s. \nCoffee\, tea and biscuits will be provided after the service so you can chat with people. \nPlease join us\, everyone is welcome and we would love to have you come along.
URL:https://aigburth.church/event/sunday-morning-service-50
LOCATION:Aigburth Community Church\, Dundonald Road\, Liverpool\, Merseyside\, L17 0AE\, United Kingdom
CATEGORIES:Sunday Services
END:VEVENT
BEGIN:VEVENT
DTSTART;TZID=Europe/London:20231001T180000
DTEND;TZID=Europe/London:20231001T190000
DTSTAMP:20260424T141326
CREATED:20230907T101526Z
LAST-MODIFIED:20230907T101526Z
UID:8014-1696183200-1696186800@aigburth.church
SUMMARY:Sunday Evening International Prayer Meeting
DESCRIPTION:This is where we meet to pray for our church and churches further afield\, please do try and attend if you can. Coffee and tea will be available.
URL:https://aigburth.church/event/sunday-evening-international-prayer-meeting
LOCATION:Aigburth Community Church\, Dundonald Road\, Liverpool\, Merseyside\, L17 0AE\, United Kingdom
CATEGORIES:Sunday Services
END:VEVENT
BEGIN:VEVENT
DTSTART;TZID=Europe/London:20231008T110000
DTEND;TZID=Europe/London:20231008T120000
DTSTAMP:20260424T141326
CREATED:20230907T095434Z
LAST-MODIFIED:20230907T095940Z
UID:8001-1696762800-1696766400@aigburth.church
SUMMARY:Sunday Morning Service
DESCRIPTION:Jon Norwood will be preaching on Mark 2:18-3:12. \nThere will be a creche provided and activities for under 8s. \nCoffee\, tea and biscuits will be provided after the service so you can chat with people. \nPlease join us\, everyone is welcome and we would love to have you come along.
URL:https://aigburth.church/event/sunday-morning-service-51
LOCATION:Aigburth Community Church\, Dundonald Road\, Liverpool\, Merseyside\, L17 0AE\, United Kingdom
CATEGORIES:Sunday Services
END:VEVENT
BEGIN:VEVENT
DTSTART;TZID=Europe/London:20231008T180000
DTEND;TZID=Europe/London:20231008T190000
DTSTAMP:20260424T141326
CREATED:20230907T101700Z
LAST-MODIFIED:20230907T101700Z
UID:8016-1696788000-1696791600@aigburth.church
SUMMARY:Sunday Evening Praise & Devotion Meeting
DESCRIPTION:This is a chance for us to meet together\, with readings and singing\, with the single aim of pointing us to Jesus\, closing with us celebrating the Lord’s supper as a church family.
URL:https://aigburth.church/event/sunday-evening-praise-devotion-meeting-2
LOCATION:Aigburth Community Church\, Dundonald Road\, Liverpool\, Merseyside\, L17 0AE\, United Kingdom
CATEGORIES:Sunday Services
END:VEVENT
BEGIN:VEVENT
DTSTART;TZID=Europe/London:20231015T110000
DTEND;TZID=Europe/London:20231015T120000
DTSTAMP:20260424T141326
CREATED:20230907T095628Z
LAST-MODIFIED:20230907T095628Z
UID:8003-1697367600-1697371200@aigburth.church
SUMMARY:Sunday Morning Service
DESCRIPTION:Maurice Kinnaird will be preaching on Mark 3:13-35. \nThere will be a creche provided and activities for under 8s. \nCoffee\, tea and biscuits will be provided after the service so you can chat with people. \nPlease join us\, everyone is welcome and we would love to have you come along.
URL:https://aigburth.church/event/sunday-morning-service-52
LOCATION:Aigburth Community Church\, Dundonald Road\, Liverpool\, Merseyside\, L17 0AE\, United Kingdom
CATEGORIES:Sunday Services
END:VEVENT
BEGIN:VEVENT
DTSTART;TZID=Europe/London:20231015T180000
DTEND;TZID=Europe/London:20231015T190000
DTSTAMP:20260424T141326
CREATED:20230907T101802Z
LAST-MODIFIED:20230907T101802Z
UID:8018-1697392800-1697396400@aigburth.church
SUMMARY:Sunday Evening Prayer Meeting
DESCRIPTION:This is where we meet to pray for our church and the local community\, please do try and attend if you can. Coffee and tea will be available.
URL:https://aigburth.church/event/sunday-evening-prayer-meeting-20
LOCATION:Aigburth Community Church\, Dundonald Road\, Liverpool\, Merseyside\, L17 0AE\, United Kingdom
CATEGORIES:Sunday Services
END:VEVENT
BEGIN:VEVENT
DTSTART;TZID=Europe/London:20231022T110000
DTEND;TZID=Europe/London:20231022T120000
DTSTAMP:20260424T141326
CREATED:20230907T095831Z
LAST-MODIFIED:20230907T095831Z
UID:8005-1697972400-1697976000@aigburth.church
SUMMARY:Sunday Morning Service
DESCRIPTION:Ed Peck will be preaching on Mark 4:1-34. \nThere will be a creche provided and activities for under 8s. \nCoffee\, tea and biscuits will be provided after the service so you can chat with people. \nPlease join us\, everyone is welcome and we would love to have you come along. \nThis service will include the Lord’s Supper.
URL:https://aigburth.church/event/sunday-morning-service-53
LOCATION:Aigburth Community Church\, Dundonald Road\, Liverpool\, Merseyside\, L17 0AE\, United Kingdom
CATEGORIES:Sunday Services
END:VEVENT
BEGIN:VEVENT
DTSTART;TZID=Europe/London:20231022T110000
DTEND;TZID=Europe/London:20231022T123000
DTSTAMP:20260424T141326
CREATED:20231107T095633Z
LAST-MODIFIED:20231107T095633Z
UID:8085-1697972400-1697977800@aigburth.church
SUMMARY:Sunday Morning Service
DESCRIPTION:Ed Peck will be preaching on Mark 4:1-20 \nThere will be a creche provided and activities for under 8s. \nCoffee\, tea and biscuits will be provided after the service so you can chat with people. \nPlease join us\, everyone is welcome and we would love to have you come along. \nThis service will include the Lord’s Supper.
URL:https://aigburth.church/event/sunday-morning-service-54
LOCATION:Aigburth Community Church\, Dundonald Road\, Liverpool\, Merseyside\, L17 0AE\, United Kingdom
CATEGORIES:Sunday Services
END:VEVENT
BEGIN:VEVENT
DTSTART;TZID=Europe/London:20231022T170000
DTEND;TZID=Europe/London:20231022T180000
DTSTAMP:20260424T141326
CREATED:20230907T101852Z
LAST-MODIFIED:20230907T101852Z
UID:8020-1697994000-1697997600@aigburth.church
SUMMARY:Sunday Evening Church Meal
DESCRIPTION:A regular opportunity to come together as a church family over a nice meal.
URL:https://aigburth.church/event/sunday-evening-church-meal-2
LOCATION:Aigburth Community Church\, Dundonald Road\, Liverpool\, Merseyside\, L17 0AE\, United Kingdom
CATEGORIES:Sunday Services
END:VEVENT
BEGIN:VEVENT
DTSTART;TZID=Europe/London:20231029T110000
DTEND;TZID=Europe/London:20231029T123000
DTSTAMP:20260424T141326
CREATED:20231107T095813Z
LAST-MODIFIED:20231107T095813Z
UID:8087-1698577200-1698582600@aigburth.church
SUMMARY:Sunday Morning Service
DESCRIPTION:Rich Grindey will be preaching on Mark 4:21-34. \nThere will be a creche provided and activities for under 8s. \nCoffee\, tea and biscuits will be provided after the service so you can chat with people. \nPlease join us\, everyone is welcome and we would love to have you come along. \n 
URL:https://aigburth.church/event/sunday-morning-service-55
LOCATION:Aigburth Community Church\, Dundonald Road\, Liverpool\, Merseyside\, L17 0AE\, United Kingdom
CATEGORIES:Sunday Services
END:VEVENT
END:VCALENDAR