BEGIN:VCALENDAR
VERSION:2.0
PRODID:-//Aigburth Community Church - ECPv6.15.20//NONSGML v1.0//EN
CALSCALE:GREGORIAN
METHOD:PUBLISH
X-ORIGINAL-URL:https://aigburth.church
X-WR-CALDESC:Events for Aigburth Community Church
REFRESH-INTERVAL;VALUE=DURATION:PT1H
X-Robots-Tag:noindex
X-PUBLISHED-TTL:PT1H
BEGIN:VTIMEZONE
TZID:Europe/London
BEGIN:DAYLIGHT
TZOFFSETFROM:+0000
TZOFFSETTO:+0100
TZNAME:BST
DTSTART:20220327T010000
END:DAYLIGHT
BEGIN:STANDARD
TZOFFSETFROM:+0100
TZOFFSETTO:+0000
TZNAME:GMT
DTSTART:20221030T010000
END:STANDARD
BEGIN:DAYLIGHT
TZOFFSETFROM:+0000
TZOFFSETTO:+0100
TZNAME:BST
DTSTART:20230326T010000
END:DAYLIGHT
BEGIN:STANDARD
TZOFFSETFROM:+0100
TZOFFSETTO:+0000
TZNAME:GMT
DTSTART:20231029T010000
END:STANDARD
BEGIN:DAYLIGHT
TZOFFSETFROM:+0000
TZOFFSETTO:+0100
TZNAME:BST
DTSTART:20240331T010000
END:DAYLIGHT
BEGIN:STANDARD
TZOFFSETFROM:+0100
TZOFFSETTO:+0000
TZNAME:GMT
DTSTART:20241027T010000
END:STANDARD
END:VTIMEZONE
BEGIN:VEVENT
DTSTART;TZID=Europe/London:20230903T110000
DTEND;TZID=Europe/London:20230903T120000
DTSTAMP:20260424T152735
CREATED:20230907T094132Z
LAST-MODIFIED:20230907T094223Z
UID:7991-1693738800-1693742400@aigburth.church
SUMMARY:Sunday Morning All Age Service
DESCRIPTION:In our ‘Summer in the Psalms’ series\, Maurice Kinnaird will be preaching on Psalm 138. \nThis will be an all age service but there will be a creche space available. \nCoffee will be provided after the service so you can chat with people.
URL:https://aigburth.church/event/sunday-morning-all-age-service-10
LOCATION:Aigburth Community Church\, Dundonald Road\, Liverpool\, Merseyside\, L17 0AE\, United Kingdom
CATEGORIES:Sunday Services
END:VEVENT
BEGIN:VEVENT
DTSTART;TZID=Europe/London:20230910T110000
DTEND;TZID=Europe/London:20230910T120000
DTSTAMP:20260424T152735
CREATED:20230907T094659Z
LAST-MODIFIED:20230907T094659Z
UID:7993-1694343600-1694347200@aigburth.church
SUMMARY:Sunday Morning Service
DESCRIPTION:Jeremy Clark will be preaching on Mark 1:1-13. \nThere will be a creche provided and activities for under 8s. \nCoffee\, tea and biscuits will be provided after the service so you can chat with people. \nPlease join us\, everyone is welcome and we would love to have you come along.
URL:https://aigburth.church/event/sunday-morning-service-47
LOCATION:Aigburth Community Church\, Dundonald Road\, Liverpool\, Merseyside\, L17 0AE\, United Kingdom
CATEGORIES:Sunday Services
END:VEVENT
BEGIN:VEVENT
DTSTART;TZID=Europe/London:20230910T180000
DTEND;TZID=Europe/London:20230910T190000
DTSTAMP:20260424T152735
CREATED:20230907T101122Z
LAST-MODIFIED:20230907T101122Z
UID:8007-1694368800-1694372400@aigburth.church
SUMMARY:Sunday Evening Praise & Devotion Meeting
DESCRIPTION:This is a chance for us to meet together\, with readings and singing\, with the single aim of pointing us to Jesus\, closing with us celebrating the Lord’s supper as a church family.
URL:https://aigburth.church/event/sunday-evening-praise-devotion-meeting
LOCATION:Aigburth Community Church\, Dundonald Road\, Liverpool\, Merseyside\, L17 0AE\, United Kingdom
CATEGORIES:Sunday Services
END:VEVENT
BEGIN:VEVENT
DTSTART;TZID=Europe/London:20230917T110000
DTEND;TZID=Europe/London:20230917T120000
DTSTAMP:20260424T152735
CREATED:20230907T094934Z
LAST-MODIFIED:20230907T094934Z
UID:7995-1694948400-1694952000@aigburth.church
SUMMARY:Sunday Morning Service
DESCRIPTION:John Critchley will be preaching on Mark 1:14-20. \nThere will be a creche provided and activities for under 8s. \nCoffee\, tea and biscuits will be provided after the service so you can chat with people. \nPlease join us\, everyone is welcome and we would love to have you come along.
URL:https://aigburth.church/event/sunday-morning-service-48
LOCATION:Aigburth Community Church\, Dundonald Road\, Liverpool\, Merseyside\, L17 0AE\, United Kingdom
CATEGORIES:Sunday Services
END:VEVENT
BEGIN:VEVENT
DTSTART;TZID=Europe/London:20230917T180000
DTEND;TZID=Europe/London:20230917T190000
DTSTAMP:20260424T152735
CREATED:20230907T101214Z
LAST-MODIFIED:20230907T101214Z
UID:8009-1694973600-1694977200@aigburth.church
SUMMARY:Sunday Evening Prayer Meeting
DESCRIPTION:This is where we meet to pray for our church and the local community\, please do try and attend if you can. Coffee and tea will be available.
URL:https://aigburth.church/event/sunday-evening-prayer-meeting-19
LOCATION:Aigburth Community Church\, Dundonald Road\, Liverpool\, Merseyside\, L17 0AE\, United Kingdom
CATEGORIES:Sunday Services
END:VEVENT
BEGIN:VEVENT
DTSTART;TZID=Europe/London:20230924T110000
DTEND;TZID=Europe/London:20230924T120000
DTSTAMP:20260424T152735
CREATED:20230907T095117Z
LAST-MODIFIED:20230907T095117Z
UID:7997-1695553200-1695556800@aigburth.church
SUMMARY:Sunday Morning Service
DESCRIPTION:Ed Peck will be preaching on Mark 1:21-45. \nThere will be a creche provided and activities for under 8s. \nCoffee\, tea and biscuits will be provided after the service so you can chat with people. \nPlease join us\, everyone is welcome and we would love to have you come along. \nThe Lord’s supper will be provided at this service.
URL:https://aigburth.church/event/sunday-morning-service-49
LOCATION:Aigburth Community Church\, Dundonald Road\, Liverpool\, Merseyside\, L17 0AE\, United Kingdom
CATEGORIES:Sunday Services
END:VEVENT
BEGIN:VEVENT
DTSTART;TZID=Europe/London:20230924T170000
DTEND;TZID=Europe/London:20230924T183000
DTSTAMP:20260424T152735
CREATED:20230907T101438Z
LAST-MODIFIED:20230907T101438Z
UID:8012-1695574800-1695580200@aigburth.church
SUMMARY:Sunday Evening Church Meal
DESCRIPTION:A regular opportunity to come together as a church family over a nice meal.
URL:https://aigburth.church/event/sunday-evening-church-meal
LOCATION:Aigburth Community Church\, Dundonald Road\, Liverpool\, Merseyside\, L17 0AE\, United Kingdom
CATEGORIES:Sunday Services
END:VEVENT
END:VCALENDAR